BEGIN:VCALENDAR
VERSION:2.0
PRODID:-//Svensk epidemiologisk förening - SVEP - ECPv6.15.20//NONSGML v1.0//EN
CALSCALE:GREGORIAN
METHOD:PUBLISH
X-WR-CALNAME:Svensk epidemiologisk förening - SVEP
X-ORIGINAL-URL:https://www.epidemiologi.nu
X-WR-CALDESC:Händelser för Svensk epidemiologisk förening - SVEP
REFRESH-INTERVAL;VALUE=DURATION:PT1H
X-Robots-Tag:noindex
X-PUBLISHED-TTL:PT1H
BEGIN:VTIMEZONE
TZID:Europe/Paris
BEGIN:DAYLIGHT
TZOFFSETFROM:+0100
TZOFFSETTO:+0200
TZNAME:CEST
DTSTART:20240331T010000
END:DAYLIGHT
BEGIN:STANDARD
TZOFFSETFROM:+0200
TZOFFSETTO:+0100
TZNAME:CET
DTSTART:20241027T010000
END:STANDARD
BEGIN:DAYLIGHT
TZOFFSETFROM:+0100
TZOFFSETTO:+0200
TZNAME:CEST
DTSTART:20250330T010000
END:DAYLIGHT
BEGIN:STANDARD
TZOFFSETFROM:+0200
TZOFFSETTO:+0100
TZNAME:CET
DTSTART:20251026T010000
END:STANDARD
BEGIN:DAYLIGHT
TZOFFSETFROM:+0100
TZOFFSETTO:+0200
TZNAME:CEST
DTSTART:20260329T010000
END:DAYLIGHT
BEGIN:STANDARD
TZOFFSETFROM:+0200
TZOFFSETTO:+0100
TZNAME:CET
DTSTART:20261025T010000
END:STANDARD
END:VTIMEZONE
BEGIN:VEVENT
DTSTART;VALUE=DATE:20251111
DTEND;VALUE=DATE:20251115
DTSTAMP:20260425T154421
CREATED:20240812T110329Z
LAST-MODIFIED:20240904T112828Z
UID:1219-1762819200-1763164799@www.epidemiologi.nu
SUMMARY:18th European Public Health Conference 2025
DESCRIPTION:Investing for sustainable health and well-being\nHelsinki\, Finland\, 11-14 November 2025
URL:https://www.epidemiologi.nu/event/18th-european-public-health-conference-202/
LOCATION:Helsinki\, Finland
CATEGORIES:årligt möte,konferens
END:VEVENT
END:VCALENDAR