BEGIN:VCALENDAR
VERSION:2.0
PRODID:-//Svensk epidemiologisk förening - SVEP - ECPv6.15.20//NONSGML v1.0//EN
CALSCALE:GREGORIAN
METHOD:PUBLISH
X-WR-CALNAME:Svensk epidemiologisk förening - SVEP
X-ORIGINAL-URL:https://www.epidemiologi.nu
X-WR-CALDESC:Händelser för Svensk epidemiologisk förening - SVEP
REFRESH-INTERVAL;VALUE=DURATION:PT1H
X-Robots-Tag:noindex
X-PUBLISHED-TTL:PT1H
BEGIN:VTIMEZONE
TZID:Europe/Paris
BEGIN:DAYLIGHT
TZOFFSETFROM:+0100
TZOFFSETTO:+0200
TZNAME:CEST
DTSTART:20250330T010000
END:DAYLIGHT
BEGIN:STANDARD
TZOFFSETFROM:+0200
TZOFFSETTO:+0100
TZNAME:CET
DTSTART:20251026T010000
END:STANDARD
BEGIN:DAYLIGHT
TZOFFSETFROM:+0100
TZOFFSETTO:+0200
TZNAME:CEST
DTSTART:20260329T010000
END:DAYLIGHT
BEGIN:STANDARD
TZOFFSETFROM:+0200
TZOFFSETTO:+0100
TZNAME:CET
DTSTART:20261025T010000
END:STANDARD
BEGIN:DAYLIGHT
TZOFFSETFROM:+0100
TZOFFSETTO:+0200
TZNAME:CEST
DTSTART:20270328T010000
END:DAYLIGHT
BEGIN:STANDARD
TZOFFSETFROM:+0200
TZOFFSETTO:+0100
TZNAME:CET
DTSTART:20271031T010000
END:STANDARD
END:VTIMEZONE
BEGIN:VEVENT
DTSTART;TZID=Europe/Paris:20260205T120000
DTEND;TZID=Europe/Paris:20260206T140000
DTSTAMP:20260423T042756
CREATED:20251211T071455Z
LAST-MODIFIED:20251211T071703Z
UID:1417-1770292800-1770386400@www.epidemiologi.nu
SUMMARY:Large cohort studies: Success factors and methods
DESCRIPTION:NorthPop Scientific Conference\, 5-6 februari 2026!\nUmeå universitet och Region Västerbotten är internationellt erkända för kohortstudier med äldre vuxna\, och med den nya NorthPop-kohorten finns nu en kohort med 10 000 barn och deras unga föräldrar. Hur kan vi samarbeta för att bli ännu starkare inom detta forskningsfält? \nUmeå universitet och Region Västerbotten välkomnar forskare\, post docs och doktorander till en spännande konferens med fokus på metoder för kohortstudier\, etiska och juridiska hänsyn samt forskningsinfrastrukturer. De välkomnar också abstracts relaterade till kohortstudier – passa på att diskutera din forskning med kollegor i ett avslappnat och informellt sammanhang! \nRegistrera dig innan 12 januari. \nMer information och anmälan: NorthPop: WELCOME
URL:https://www.epidemiologi.nu/event/large-cohort-studies-success-factors-and-methods/
LOCATION:Umeå\, Sweden
CATEGORIES:konferens
END:VEVENT
END:VCALENDAR