BEGIN:VCALENDAR
VERSION:2.0
PRODID:-//Svensk epidemiologisk förening - SVEP - ECPv6.15.20//NONSGML v1.0//EN
CALSCALE:GREGORIAN
METHOD:PUBLISH
X-WR-CALNAME:Svensk epidemiologisk förening - SVEP
X-ORIGINAL-URL:https://www.epidemiologi.nu
X-WR-CALDESC:Händelser för Svensk epidemiologisk förening - SVEP
REFRESH-INTERVAL;VALUE=DURATION:PT1H
X-Robots-Tag:noindex
X-PUBLISHED-TTL:PT1H
BEGIN:VTIMEZONE
TZID:Europe/Paris
BEGIN:DAYLIGHT
TZOFFSETFROM:+0100
TZOFFSETTO:+0200
TZNAME:CEST
DTSTART:20240331T010000
END:DAYLIGHT
BEGIN:STANDARD
TZOFFSETFROM:+0200
TZOFFSETTO:+0100
TZNAME:CET
DTSTART:20241027T010000
END:STANDARD
BEGIN:DAYLIGHT
TZOFFSETFROM:+0100
TZOFFSETTO:+0200
TZNAME:CEST
DTSTART:20250330T010000
END:DAYLIGHT
BEGIN:STANDARD
TZOFFSETFROM:+0200
TZOFFSETTO:+0100
TZNAME:CET
DTSTART:20251026T010000
END:STANDARD
BEGIN:DAYLIGHT
TZOFFSETFROM:+0100
TZOFFSETTO:+0200
TZNAME:CEST
DTSTART:20260329T010000
END:DAYLIGHT
BEGIN:STANDARD
TZOFFSETFROM:+0200
TZOFFSETTO:+0100
TZNAME:CET
DTSTART:20261025T010000
END:STANDARD
END:VTIMEZONE
BEGIN:VEVENT
DTSTART;TZID=Europe/Paris:20250327T150000
DTEND;TZID=Europe/Paris:20250327T170000
DTSTAMP:20260423T021850
CREATED:20250123T072216Z
LAST-MODIFIED:20250123T072505Z
UID:1295-1743087600-1743094800@www.epidemiologi.nu
SUMMARY:SVEP Årsmöte och webbinarium
DESCRIPTION:15.00-16.00 webbinarium med tema: ”Screening” \nMargareta Hedner från Socialstyrelsen föreläser om \n\nhur de arbetar med screening\nhur screeningen är organiserad\nhur beslutas vilka sjukdomar som ska ingå i ett nationellt screeningprogram\nvilka kriterier krävs\nvarför finns regionala screeningprogram\nhur screeningprogrammen utvärderas\n\n16.15-17.00 årsmöte\nDagordning och zoomlänk kommer med e-postutskick till alla medlemmar
URL:https://www.epidemiologi.nu/event/svep-arsmote-2025-och-webbinarium/
LOCATION:Online
END:VEVENT
END:VCALENDAR