BEGIN:VCALENDAR
VERSION:2.0
PRODID:-//Svensk epidemiologisk förening - SVEP - ECPv6.15.20//NONSGML v1.0//EN
CALSCALE:GREGORIAN
METHOD:PUBLISH
X-WR-CALNAME:Svensk epidemiologisk förening - SVEP
X-ORIGINAL-URL:https://www.epidemiologi.nu
X-WR-CALDESC:Händelser för Svensk epidemiologisk förening - SVEP
REFRESH-INTERVAL;VALUE=DURATION:PT1H
X-Robots-Tag:noindex
X-PUBLISHED-TTL:PT1H
BEGIN:VTIMEZONE
TZID:Europe/Paris
BEGIN:DAYLIGHT
TZOFFSETFROM:+0100
TZOFFSETTO:+0200
TZNAME:CEST
DTSTART:20240331T010000
END:DAYLIGHT
BEGIN:STANDARD
TZOFFSETFROM:+0200
TZOFFSETTO:+0100
TZNAME:CET
DTSTART:20241027T010000
END:STANDARD
BEGIN:DAYLIGHT
TZOFFSETFROM:+0100
TZOFFSETTO:+0200
TZNAME:CEST
DTSTART:20250330T010000
END:DAYLIGHT
BEGIN:STANDARD
TZOFFSETFROM:+0200
TZOFFSETTO:+0100
TZNAME:CET
DTSTART:20251026T010000
END:STANDARD
BEGIN:DAYLIGHT
TZOFFSETFROM:+0100
TZOFFSETTO:+0200
TZNAME:CEST
DTSTART:20260329T010000
END:DAYLIGHT
BEGIN:STANDARD
TZOFFSETFROM:+0200
TZOFFSETTO:+0100
TZNAME:CET
DTSTART:20261025T010000
END:STANDARD
BEGIN:DAYLIGHT
TZOFFSETFROM:+0100
TZOFFSETTO:+0200
TZNAME:CEST
DTSTART:20270328T010000
END:DAYLIGHT
BEGIN:STANDARD
TZOFFSETFROM:+0200
TZOFFSETTO:+0100
TZNAME:CET
DTSTART:20271031T010000
END:STANDARD
END:VTIMEZONE
BEGIN:VEVENT
DTSTART;VALUE=DATE:20251111
DTEND;VALUE=DATE:20251115
DTSTAMP:20260425T183328
CREATED:20240812T110329Z
LAST-MODIFIED:20240904T112828Z
UID:1219-1762819200-1763164799@www.epidemiologi.nu
SUMMARY:18th European Public Health Conference 2025
DESCRIPTION:Investing for sustainable health and well-being\nHelsinki\, Finland\, 11-14 November 2025
URL:https://www.epidemiologi.nu/event/18th-european-public-health-conference-202/
LOCATION:Helsinki\, Finland
CATEGORIES:årligt möte,konferens
END:VEVENT
BEGIN:VEVENT
DTSTART;TZID=Europe/Paris:20251203T150000
DTEND;TZID=Europe/Paris:20251203T160000
DTSTAMP:20260425T183328
CREATED:20251029T150816Z
LAST-MODIFIED:20251106T073354Z
UID:1388-1764774000-1764777600@www.epidemiologi.nu
SUMMARY:Utbredning och hälsoeffekter av nya nikotinprodukter
DESCRIPTION:Välkommen till webbinarium: \nUtbredning och hälsoeffekter av nya nikotinprodukter\nAktuellt kunskapsläge om nya nikotinprodukter såsom elektroniska cigaretter (vape) och vitt snus – vilka är det som använder dem och hur påverkar de hälsan? \nMed: Linnéa Hedman\, docent i epidemiologi och folkhälsovetenskap\, Umeå Universitet; chef för OLIN-studierna\, Region Norrbotten \nTid: 3/12 kl 15.00-16.00 \nLänk: https://gu-se.zoom.us/j/67542240887?pwd=pNiRwfNTLUpwzoWGpJvCVulFSkkIPN.1 \nOm kod efterfrågas: 598552 \nFrågor och kontakt: Helena Backman\, helena.backman [snabela] norrbotten.se
URL:https://www.epidemiologi.nu/event/utbredning-och-halsoeffekter-av-nya-nikotinprodukter/
LOCATION:Online
CATEGORIES:webinarium
END:VEVENT
BEGIN:VEVENT
DTSTART;TZID=Europe/Paris:20260205T120000
DTEND;TZID=Europe/Paris:20260206T140000
DTSTAMP:20260425T183328
CREATED:20251211T071455Z
LAST-MODIFIED:20251211T071703Z
UID:1417-1770292800-1770386400@www.epidemiologi.nu
SUMMARY:Large cohort studies: Success factors and methods
DESCRIPTION:NorthPop Scientific Conference\, 5-6 februari 2026!\nUmeå universitet och Region Västerbotten är internationellt erkända för kohortstudier med äldre vuxna\, och med den nya NorthPop-kohorten finns nu en kohort med 10 000 barn och deras unga föräldrar. Hur kan vi samarbeta för att bli ännu starkare inom detta forskningsfält? \nUmeå universitet och Region Västerbotten välkomnar forskare\, post docs och doktorander till en spännande konferens med fokus på metoder för kohortstudier\, etiska och juridiska hänsyn samt forskningsinfrastrukturer. De välkomnar också abstracts relaterade till kohortstudier – passa på att diskutera din forskning med kollegor i ett avslappnat och informellt sammanhang! \nRegistrera dig innan 12 januari. \nMer information och anmälan: NorthPop: WELCOME
URL:https://www.epidemiologi.nu/event/large-cohort-studies-success-factors-and-methods/
LOCATION:Umeå\, Sweden
CATEGORIES:konferens
END:VEVENT
BEGIN:VEVENT
DTSTART;TZID=Europe/Paris:20260424T140000
DTEND;TZID=Europe/Paris:20260424T160000
DTSTAMP:20260425T183328
CREATED:20260217T084004Z
LAST-MODIFIED:20260217T085104Z
UID:1440-1777039200-1777046400@www.epidemiologi.nu
SUMMARY:Årsmöte med webbinarium 24 april 2026
DESCRIPTION:Även i år kombinerar vi årsmöte med webbinarium. \n  \nWebbinarium  kl 14.00-15.00\, tema ”Biologisk ålder”.  \nTalare: Sara Hägg och Ingmar Skoog. \nTacksam för spridning! Webbinariet kommer att hållas på engelska\, se bifogad flyer för mer information. \nZoom: länk \n  \n  \nÅrsmöte kl 15.15-16.00.\nDagordning till årsmötet kommer i e-postutskick till SVEP-medlemmar. \nZoom: länk
URL:https://www.epidemiologi.nu/event/arsmote-med-webbinarium-24-april/
CATEGORIES:årligt möte,webinarium
END:VEVENT
BEGIN:VEVENT
DTSTART;VALUE=DATE:20260603
DTEND;VALUE=DATE:20260606
DTSTAMP:20260425T183328
CREATED:20251119T090503Z
LAST-MODIFIED:20251119T092215Z
UID:1409-1780444800-1780703999@www.epidemiologi.nu
SUMMARY:NordicEpi & NorPEN Conference 2026
DESCRIPTION:Välkommen till NordicEpi 2026 i Tromsø! \nNordicEpi 2026 är den första konferensen någonsin som arrangeras tillsammans med  läkemedelsepidemiologi-konferensen NorPEN! \nKonferensen sker i  Tromsø\, Norge\, 3–5 Juni 2026. \nAbstract deadline är 15 januari 2026.  \nFör mer info och uppdateringar\, kika in på hemsidan: NordicEpi & NorPEN Conference 2026 | UiT
URL:https://www.epidemiologi.nu/event/nordicepi-norpen-conference-2026/
CATEGORIES:konferens
END:VEVENT
END:VCALENDAR