BEGIN:VCALENDAR
VERSION:2.0
PRODID:-//Svensk epidemiologisk förening - SVEP - ECPv6.15.20//NONSGML v1.0//EN
CALSCALE:GREGORIAN
METHOD:PUBLISH
X-WR-CALNAME:Svensk epidemiologisk förening - SVEP
X-ORIGINAL-URL:https://www.epidemiologi.nu
X-WR-CALDESC:Händelser för Svensk epidemiologisk förening - SVEP
REFRESH-INTERVAL;VALUE=DURATION:PT1H
X-Robots-Tag:noindex
X-PUBLISHED-TTL:PT1H
BEGIN:VTIMEZONE
TZID:Europe/Paris
BEGIN:DAYLIGHT
TZOFFSETFROM:+0100
TZOFFSETTO:+0200
TZNAME:CEST
DTSTART:20220327T010000
END:DAYLIGHT
BEGIN:STANDARD
TZOFFSETFROM:+0200
TZOFFSETTO:+0100
TZNAME:CET
DTSTART:20221030T010000
END:STANDARD
BEGIN:DAYLIGHT
TZOFFSETFROM:+0100
TZOFFSETTO:+0200
TZNAME:CEST
DTSTART:20230326T010000
END:DAYLIGHT
BEGIN:STANDARD
TZOFFSETFROM:+0200
TZOFFSETTO:+0100
TZNAME:CET
DTSTART:20231029T010000
END:STANDARD
BEGIN:DAYLIGHT
TZOFFSETFROM:+0100
TZOFFSETTO:+0200
TZNAME:CEST
DTSTART:20240331T010000
END:DAYLIGHT
BEGIN:STANDARD
TZOFFSETFROM:+0200
TZOFFSETTO:+0100
TZNAME:CET
DTSTART:20241027T010000
END:STANDARD
END:VTIMEZONE
BEGIN:VEVENT
DTSTART;VALUE=DATE:20231011
DTEND;VALUE=DATE:20231013
DTSTAMP:20260421T125644
CREATED:20230228T205836Z
LAST-MODIFIED:20230228T205836Z
UID:1063-1696982400-1697155199@www.epidemiologi.nu
SUMMARY:Connecting Health and Climate Change
DESCRIPTION:Climate change is already impacting health in multiple ways and is undermining determinants for good health\, such as clean air and water\, food\, safe shelter\, and economic opportunities. The transdisciplinary conference on Connecting Health and Climate Change brings together researchers\, experts\, policy makers\, and NGO and private sector representatives\, from all career stages. It provides an arena to present research findings and discuss climate change effects on health\, adaptation\, societal consequences\,and opportunities for climate resilient development. \n  \nThe hybrid conference is organized by ENBEL – Enhancing Belmont Research Action to support EU policy making on climate change and health. ENBEL coordinates a network of international health and climate researchers under the Belmont Forum’s Collaborative Research Action on Climate\, Environment and Health and similar EU research programs. Through this conference ENBEL aims at help strengthening the health argument for climate action.
URL:https://www.epidemiologi.nu/event/connecting-health-and-climate-change/
LOCATION:Stockholm & Hybrid\, Sverige
END:VEVENT
END:VCALENDAR