BEGIN:VCALENDAR
VERSION:2.0
PRODID:-//Svensk epidemiologisk förening - SVEP - ECPv6.15.20//NONSGML v1.0//EN
CALSCALE:GREGORIAN
METHOD:PUBLISH
X-ORIGINAL-URL:https://www.epidemiologi.nu
X-WR-CALDESC:Händelser för Svensk epidemiologisk förening - SVEP
REFRESH-INTERVAL;VALUE=DURATION:PT1H
X-Robots-Tag:noindex
X-PUBLISHED-TTL:PT1H
BEGIN:VTIMEZONE
TZID:Europe/Paris
BEGIN:DAYLIGHT
TZOFFSETFROM:+0100
TZOFFSETTO:+0200
TZNAME:CEST
DTSTART:20220327T010000
END:DAYLIGHT
BEGIN:STANDARD
TZOFFSETFROM:+0200
TZOFFSETTO:+0100
TZNAME:CET
DTSTART:20221030T010000
END:STANDARD
BEGIN:DAYLIGHT
TZOFFSETFROM:+0100
TZOFFSETTO:+0200
TZNAME:CEST
DTSTART:20230326T010000
END:DAYLIGHT
BEGIN:STANDARD
TZOFFSETFROM:+0200
TZOFFSETTO:+0100
TZNAME:CET
DTSTART:20231029T010000
END:STANDARD
BEGIN:DAYLIGHT
TZOFFSETFROM:+0100
TZOFFSETTO:+0200
TZNAME:CEST
DTSTART:20240331T010000
END:DAYLIGHT
BEGIN:STANDARD
TZOFFSETFROM:+0200
TZOFFSETTO:+0100
TZNAME:CET
DTSTART:20241027T010000
END:STANDARD
END:VTIMEZONE
BEGIN:VEVENT
DTSTART;VALUE=DATE:20231108
DTEND;VALUE=DATE:20231112
DTSTAMP:20260421T142333
CREATED:20230228T203919Z
LAST-MODIFIED:20230228T203919Z
UID:1053-1699401600-1699747199@www.epidemiologi.nu
SUMMARY:European Public Health Conference
DESCRIPTION:  \n\n\n\n\n\n16th European Public Health Conference 2023\nOur Food\, Our Health\, Our Earth: A Sustainable Future for Humanity\nConvention Centre Dublin\, Ireland\, 8-11 November 2023
URL:https://www.epidemiologi.nu/event/european-public-health-conference/
LOCATION:Dublin\, Ireland
CATEGORIES:årligt möte,konferens
END:VEVENT
BEGIN:VEVENT
DTSTART;TZID=Europe/Paris:20231114T150000
DTEND;TZID=Europe/Paris:20231114T160000
DTSTAMP:20260421T142333
CREATED:20230919T080303Z
LAST-MODIFIED:20230919T080303Z
UID:1112-1699974000-1699977600@www.epidemiologi.nu
SUMMARY:Webbinarium om BPSD-registret
DESCRIPTION:Introduktion till Svenskt register för Beteendemässiga och Psykiska Symptom vid Demens)-registret och hur använder man med det? Vilka vinster och resultat kan man se och hur använder man sina data i förbättringsarbete? Vid två tillfällen i november anordnar vi från BPSD-registret ett webbinarium som riktar sig till alla intresserade. Deltagandet är kostnadsfritt och genomförs via Teams. \nOckså 16/11.
URL:https://www.epidemiologi.nu/event/webbinarium-om-bpsd-registret/
CATEGORIES:seminarium
END:VEVENT
BEGIN:VEVENT
DTSTART;VALUE=DATE:20231120
DTEND;VALUE=DATE:20231122
DTSTAMP:20260421T142333
CREATED:20230907T125912Z
LAST-MODIFIED:20230907T125912Z
UID:1104-1700438400-1700611199@www.epidemiologi.nu
SUMMARY:6th Swedish Meeting for Cohort Studies\, in Uppsala 2023
DESCRIPTION:
URL:https://www.epidemiologi.nu/event/6th-swedish-meeting-for-cohort-studies-in-uppsala-2023/
LOCATION:H:son Holmdahlsalen\, Entrance 100\, Akademiska sjukhuset\,\, Dag Hammarskjölds Väg 8\, Uppsala
END:VEVENT
BEGIN:VEVENT
DTSTART;VALUE=DATE:20231122
DTEND;VALUE=DATE:20231125
DTSTAMP:20260421T142333
CREATED:20230228T203847Z
LAST-MODIFIED:20230228T203847Z
UID:1057-1700611200-1700870399@www.epidemiologi.nu
SUMMARY:15th annual NorPEN meeting
DESCRIPTION:This autumn\, the NorPEN Education Group is initating a monthly NorPEN seminar series. \nPlease visit the news section for more information on how to participate.
URL:https://www.epidemiologi.nu/event/15th-annual-norpen-meeting/
LOCATION:Oslo\, Norge\, Norge
CATEGORIES:årligt möte,konferens
END:VEVENT
BEGIN:VEVENT
DTSTART;VALUE=DATE:20231127
DTEND;VALUE=DATE:20231129
DTSTAMP:20260421T142333
CREATED:20230919T080011Z
LAST-MODIFIED:20230919T080022Z
UID:1109-1701043200-1701215999@www.epidemiologi.nu
SUMMARY:Register i klinisk forskning – en värdefull resurs
DESCRIPTION:QRC Stockholms kurs om hur kvalitetsregister och andra nationella register kan användas i klinisk forskning ges en gång varje hösttermin. Nu är anmälan öppen för årets kurs som ges fysiskt på plats den 27–28 november.
URL:https://www.epidemiologi.nu/event/register-i-klinisk-forskning-en-vardefull-resurs/
LOCATION:Lindhagensgatan 98\, Stockholm
CATEGORIES:kurs
END:VEVENT
END:VCALENDAR