BEGIN:VCALENDAR
VERSION:2.0
PRODID:-//Svensk epidemiologisk förening - SVEP - ECPv6.15.20//NONSGML v1.0//EN
CALSCALE:GREGORIAN
METHOD:PUBLISH
X-WR-CALNAME:Svensk epidemiologisk förening - SVEP
X-ORIGINAL-URL:https://www.epidemiologi.nu
X-WR-CALDESC:Händelser för Svensk epidemiologisk förening - SVEP
REFRESH-INTERVAL;VALUE=DURATION:PT1H
X-Robots-Tag:noindex
X-PUBLISHED-TTL:PT1H
BEGIN:VTIMEZONE
TZID:Europe/Paris
BEGIN:DAYLIGHT
TZOFFSETFROM:+0100
TZOFFSETTO:+0200
TZNAME:CEST
DTSTART:20220327T010000
END:DAYLIGHT
BEGIN:STANDARD
TZOFFSETFROM:+0200
TZOFFSETTO:+0100
TZNAME:CET
DTSTART:20221030T010000
END:STANDARD
BEGIN:DAYLIGHT
TZOFFSETFROM:+0100
TZOFFSETTO:+0200
TZNAME:CEST
DTSTART:20230326T010000
END:DAYLIGHT
BEGIN:STANDARD
TZOFFSETFROM:+0200
TZOFFSETTO:+0100
TZNAME:CET
DTSTART:20231029T010000
END:STANDARD
BEGIN:DAYLIGHT
TZOFFSETFROM:+0100
TZOFFSETTO:+0200
TZNAME:CEST
DTSTART:20240331T010000
END:DAYLIGHT
BEGIN:STANDARD
TZOFFSETFROM:+0200
TZOFFSETTO:+0100
TZNAME:CET
DTSTART:20241027T010000
END:STANDARD
END:VTIMEZONE
BEGIN:VEVENT
DTSTART;VALUE=DATE:20231202
DTEND;VALUE=DATE:20231204
DTSTAMP:20260421T154642
CREATED:20221219T180107Z
LAST-MODIFIED:20221219T180107Z
UID:1012-1701475200-1701647999@www.epidemiologi.nu
SUMMARY:ICOH 2023: 17. International Conference on Occupational Health
DESCRIPTION:The International Research Conference Aims and Objectives\n\nThe International Research Conference is a federated organization dedicated to bringing together a significant number of diverse scholarly events for presentation within the conference program. Events will run over a span of time during the conference depending on the number and length of the presentations. With its high quality\, it provides an exceptional value for students\, academics and industry researchers.
URL:https://www.epidemiologi.nu/event/icoh-2023-17-international-conference-on-occupational-health/
LOCATION:Sydney\, Australien
CATEGORIES:konferens
END:VEVENT
END:VCALENDAR