BEGIN:VCALENDAR
VERSION:2.0
PRODID:-//Svensk epidemiologisk förening - SVEP - ECPv6.15.20//NONSGML v1.0//EN
CALSCALE:GREGORIAN
METHOD:PUBLISH
X-WR-CALNAME:Svensk epidemiologisk förening - SVEP
X-ORIGINAL-URL:https://www.epidemiologi.nu
X-WR-CALDESC:Händelser för Svensk epidemiologisk förening - SVEP
REFRESH-INTERVAL;VALUE=DURATION:PT1H
X-Robots-Tag:noindex
X-PUBLISHED-TTL:PT1H
BEGIN:VTIMEZONE
TZID:Europe/Paris
BEGIN:DAYLIGHT
TZOFFSETFROM:+0100
TZOFFSETTO:+0200
TZNAME:CEST
DTSTART:20230326T010000
END:DAYLIGHT
BEGIN:STANDARD
TZOFFSETFROM:+0200
TZOFFSETTO:+0100
TZNAME:CET
DTSTART:20231029T010000
END:STANDARD
BEGIN:DAYLIGHT
TZOFFSETFROM:+0100
TZOFFSETTO:+0200
TZNAME:CEST
DTSTART:20240331T010000
END:DAYLIGHT
BEGIN:STANDARD
TZOFFSETFROM:+0200
TZOFFSETTO:+0100
TZNAME:CET
DTSTART:20241027T010000
END:STANDARD
BEGIN:DAYLIGHT
TZOFFSETFROM:+0100
TZOFFSETTO:+0200
TZNAME:CEST
DTSTART:20250330T010000
END:DAYLIGHT
BEGIN:STANDARD
TZOFFSETFROM:+0200
TZOFFSETTO:+0100
TZNAME:CET
DTSTART:20251026T010000
END:STANDARD
END:VTIMEZONE
BEGIN:VEVENT
DTSTART;VALUE=DATE:20240612
DTEND;VALUE=DATE:20240615
DTSTAMP:20260422T000416
CREATED:20231113T081631Z
LAST-MODIFIED:20231113T081655Z
UID:1147-1718150400-1718409599@www.epidemiologi.nu
SUMMARY:NordicEpi 2024
DESCRIPTION:Save the date for NordicEpi 2024. \nPlease note the following important deadlines: \n\n28th January 2024: Deadline for abstract and symposia submission\n8th April 2024: Early bird registration\n3rd June 2024: Deadline for registration\n\nWe hope to see many of you in Copenhagen in June 2024!
URL:https://www.epidemiologi.nu/event/nordicepi-2024/
LOCATION:Köpenhamns Universitet\, Gammeltoftsgade 15\, Köpenhamn\, 1355\, Danmark
CATEGORIES:konferens
END:VEVENT
END:VCALENDAR