BEGIN:VCALENDAR
VERSION:2.0
PRODID:-//Svensk epidemiologisk förening - SVEP - ECPv6.15.20//NONSGML v1.0//EN
CALSCALE:GREGORIAN
METHOD:PUBLISH
X-WR-CALNAME:Svensk epidemiologisk förening - SVEP
X-ORIGINAL-URL:https://www.epidemiologi.nu
X-WR-CALDESC:Händelser för Svensk epidemiologisk förening - SVEP
REFRESH-INTERVAL;VALUE=DURATION:PT1H
X-Robots-Tag:noindex
X-PUBLISHED-TTL:PT1H
BEGIN:VTIMEZONE
TZID:Europe/Paris
BEGIN:DAYLIGHT
TZOFFSETFROM:+0100
TZOFFSETTO:+0200
TZNAME:CEST
DTSTART:20230326T010000
END:DAYLIGHT
BEGIN:STANDARD
TZOFFSETFROM:+0200
TZOFFSETTO:+0100
TZNAME:CET
DTSTART:20231029T010000
END:STANDARD
BEGIN:DAYLIGHT
TZOFFSETFROM:+0100
TZOFFSETTO:+0200
TZNAME:CEST
DTSTART:20240331T010000
END:DAYLIGHT
BEGIN:STANDARD
TZOFFSETFROM:+0200
TZOFFSETTO:+0100
TZNAME:CET
DTSTART:20241027T010000
END:STANDARD
BEGIN:DAYLIGHT
TZOFFSETFROM:+0100
TZOFFSETTO:+0200
TZNAME:CEST
DTSTART:20250330T010000
END:DAYLIGHT
BEGIN:STANDARD
TZOFFSETFROM:+0200
TZOFFSETTO:+0100
TZNAME:CET
DTSTART:20251026T010000
END:STANDARD
END:VTIMEZONE
BEGIN:VEVENT
DTSTART;VALUE=DATE:20240812
DTEND;VALUE=DATE:20240824
DTSTAMP:20260422T025011
CREATED:20240409T200917Z
LAST-MODIFIED:20240409T200917Z
UID:1185-1723420800-1724457599@www.epidemiologi.nu
SUMMARY:Nordisk sommerskole i cancerepidemiologi
DESCRIPTION:  \nNordic Summer School in Cancer Epidemiology\, en kurs arrangerad av ANCR (Association of Nordic Cancer Registries) som går vartannat år. \nKursen är helt kostnadsfri och riktar sig till studenter och doktorander. Plats finns för ett trettiotal deltagare\, varav cirka fem är reserverade för svenska studenter. Deadline för ansökan är den 15 maj. \nhttps://www.kreftregisteret.no/ancr/summer-school/ \n  \nhttps://www.kreftregisteret.no/ancr/summer-school/
URL:https://www.epidemiologi.nu/event/nordisk-sommerskole-i-cancerepidemiologi/
CATEGORIES:Sommerkurs
END:VEVENT
BEGIN:VEVENT
DTSTART;VALUE=DATE:20240824
DTEND;VALUE=DATE:20240829
DTSTAMP:20260422T025011
CREATED:20231005T093855Z
LAST-MODIFIED:20231005T093855Z
UID:1121-1724457600-1724889599@www.epidemiologi.nu
SUMMARY:40th ICPE Årliga konferens
DESCRIPTION:International society for pharmacoepidemiology annual meeting
URL:https://www.epidemiologi.nu/event/40th-icpe-arliga-konferens/
LOCATION:Berlin\, Tyskland\, Tyskland
CATEGORIES:årligt möte,konferens
END:VEVENT
BEGIN:VEVENT
DTSTART;VALUE=DATE:20240825
DTEND;VALUE=DATE:20240829
DTSTAMP:20260422T025011
CREATED:20231005T094158Z
LAST-MODIFIED:20231005T094432Z
UID:1125-1724544000-1724889599@www.epidemiologi.nu
SUMMARY:ISEE årlig konferens
DESCRIPTION:36th annual conference of the International Society for Environmental Epidemiology
URL:https://www.epidemiologi.nu/event/isee-arlig-konferens/
LOCATION:Santiago\, Chile\, Chile
END:VEVENT
END:VCALENDAR